BEGIN:VCALENDAR
VERSION:2.0
PRODID:-//Library Market//iCal Export//EN
BEGIN:VEVENT
SUMMARY:Celestial Scavenger Hunt
UID:50436
DTSTAMP:20260424T220800Z
DTSTART:20260501T040000Z
DTEND:20260501T040000Z
LOCATION:300 Maiden Lane, Fayetteville, NC 28301, United States
ROOM: Celestial Scavenger Hunt
DESCRIPTION:Join us for a fun-filled starry adventure at the library. Weâ€
 ™re hosting a celestial-themed scavenger hunt where the second floor will 
 turn into a magical night sky, filled with hidden constellations just wait
 ing for you to find them.As you explore, keep your eyes peeled for star pa
 tterns scattered throughout the floor. You never know where you might spot
  a constellationâ€”maybe between bookshelves, along the walls or in some s
 urprising corners.Move around and discover new things as you journey throu
 gh the library. Find all the constellations and youâ€™ll earn a little pri
 ze to celebrate your stellar success!This scavenger hunt will be available
  from May 1-31.For more information about this program, please call 910-48
 3-7727, ext. 1361.Â 
URL:https://cumberland.librarycalendar.com/event/celestial-scavenger-hunt-
 50436
END:VEVENT
END:VCALENDAR
