BEGIN:VCALENDAR
VERSION:2.0
PRODID:-//Library Market//iCal Export//EN
BEGIN:VEVENT
SUMMARY:Summer Suncatcher Keychains
UID:49684
DTSTAMP:20260421T083700Z
DTSTART:20260604T200000Z
DTEND:20260604T220000Z
LOCATION:West Regional Library, 7469 Century Circle, Fayetteville, NC 2830
 6, United States
ROOM: Meeting/Activity Room (WRL)
DESCRIPTION:Catch the sunshine and carry it with you! Join us for a fun, r
 elaxed program where you’ll create vibrant suncatcher keychains that shi
 mmer and shine all summer long. Watch your creation sparkle in the sun as 
 you craft a one-of-a-kind accessory perfect for backpacks, keys, or gifts.
  For more information about this program, please call 910-483-7727, ext. 
 1481.
URL:https://cumberland.librarycalendar.com/event/summer-suncatcher-keychai
 ns-49684
END:VEVENT
END:VCALENDAR
