BEGIN:VCALENDAR
VERSION:2.0
PRODID:-//Library Market//iCal Export//EN
BEGIN:VEVENT
SUMMARY:Dig into Coloring!
UID:49218
DTSTAMP:20260421T021200Z
DTSTART:20260601T040000Z
DTEND:20260601T040000Z
LOCATION:East Regional Library, 4809 Clinton Road, Fayetteville, NC 28312,
  United States
ROOM: Dig into Coloring!
DESCRIPTION:Color with us throughout the month of June! Help decorate our 
 giant dinosaur poster by adding your favorite colors, making silly designs
  or giving your dino a rainbow tail—it’s up to you! Kids of all ages c
 an join the fun. Stop by anytime and help bring our big dino to life! Loc
 ated in the children&#039;s department all month.
URL:https://cumberland.librarycalendar.com/event/dig-coloring-49218
END:VEVENT
END:VCALENDAR
