BEGIN:VCALENDAR
VERSION:2.0
PRODID:-//Library Market//iCal Export//EN
BEGIN:VEVENT
SUMMARY:Dino Dig Discovery
UID:49214
DTSTAMP:20260420T205500Z
DTSTART:20260601T040000Z
DTEND:20260601T040000Z
LOCATION:East Regional Library, 4809 Clinton Road, Fayetteville, NC 28312,
  United States
ROOM: Dino Dig Discovery
DESCRIPTION:Welcome mini paleontologists! Dig into dino fun with our Dino 
 Dig Discovery Sensory Tote. Kids can scoop and sift for hidden dinosaur bo
 nes and treasures. It’s a hands-on adventure that’s perfect for little
  explorers and packed with fun, creative play.Located in the children&#039
 ;s department all month.For more information about this program, please ca
 ll 910-483-7727, ext. 1403.
URL:https://cumberland.librarycalendar.com/event/dino-dig-discovery-49214
END:VEVENT
END:VCALENDAR
