BEGIN:VCALENDAR
VERSION:2.0
PRODID:-//Library Market//iCal Export//EN
BEGIN:VEVENT
SUMMARY:Readasaurus Summer Reading Bash
UID:48884
DTSTAMP:20260421T021200Z
DTSTART:20260605T190000Z
DTEND:20260605T210000Z
LOCATION:East Regional Library, 4809 Clinton Road, Fayetteville, NC 28312,
  United States
ROOM: Meeting/Activity Room (ERL)
DESCRIPTION:Kick off the library’s Summer Reading Challenge with a ROAR 
 at our Readasaurus Summer Reading Bash! Families of all ages are invited t
 o dig into dinosaur-themed crafts, stomp through games and activities, and
  explore hands-on stations designed for kids, teens and adults alike.
URL:https://cumberland.librarycalendar.com/event/readasaurus-summer-readin
 g-bash-48884
END:VEVENT
END:VCALENDAR
