BEGIN:VCALENDAR
VERSION:2.0
PRODID:-//Library Market//iCal Export//EN
BEGIN:VEVENT
SUMMARY:LEGO Construction Challenge
UID:47638
DTSTAMP:20260422T050100Z
DTSTART:20260604T200000Z
DTEND:20260604T210000Z
LOCATION:Spring Lake Community Library, 101 Laketree Boulevard, Spring Lak
 e, NC 28390, United States
ROOM: Meeting/Activity Room (SPL)
DESCRIPTION:Do you relish the click of a brick? Put your creativity to the
  test in this fast-paced building challenge! You will receive a surprise p
 rompt and a limited amount of time to design your best improvised build. O
 ne standout creation will earn a special prize. Not feeling competitive? 
 No problem—there will also be a separate project kit available for free 
 building. If you build it, they will come … so come out and build. For 
 more information about this program, please call 910-483-7727, ext. 1459.
URL:https://cumberland.librarycalendar.com/event/lego-construction-challen
 ge-47638
END:VEVENT
END:VCALENDAR
