BEGIN:VCALENDAR
VERSION:2.0
PRODID:-//Library Market//iCal Export//EN
BEGIN:VEVENT
SUMMARY:Get Creative with LEGOs
UID:47506
DTSTAMP:20260420T205500Z
DTSTART:20260516T180000Z
DTEND:20260516T200000Z
LOCATION:Spring Lake Community Library, 101 Laketree Boulevard, Spring Lak
 e, NC 28390, United States
ROOM: Meeting/Activity Room (SPL)
DESCRIPTION:Bring the whole family for a fun, relaxed building free-play s
 ession. We’ll have a variety of building bricks available—including LE
 GOs, DUPLOs and MEGA BLOKS—so builders of all ages and skill levels can 
 play, create and imagine together. For more information about this progra
 m, please call 910-483-7727, ext. 1459.
URL:https://cumberland.librarycalendar.com/event/get-creative-legos-47506
END:VEVENT
END:VCALENDAR
