BEGIN:VCALENDAR
VERSION:2.0
PRODID:-//Library Market//iCal Export//EN
BEGIN:VEVENT
SUMMARY:Get Creative with LEGOs
UID:47505
DTSTAMP:20260420T205500Z
DTSTART:20260512T140000Z
DTEND:20260512T154500Z
LOCATION:Spring Lake Community Library, 101 Laketree Boulevard, Spring Lak
 e, NC 28390, United States
ROOM: Meeting/Activity Room (SPL)
DESCRIPTION:Bring the whole family for a relaxed, creative play session wi
 th LEGOs, MEGA BLOKS and DUPLOs—perfect for builders of all ages. Take a
  story time break, unwind together and create something fun with blocks of
  every size.For more information about this program, please call 910-483-7
 727, ext. 1459. 
URL:https://cumberland.librarycalendar.com/event/get-creative-legos-47505
END:VEVENT
END:VCALENDAR
