BEGIN:VCALENDAR
VERSION:2.0
PRODID:-//Library Market//iCal Export//EN
BEGIN:VEVENT
SUMMARY:Tech Time @ the Library
UID:40054
DTSTAMP:20260421T021200Z
DTSTART:20260601T180000Z
DTEND:20260601T193000Z
LOCATION:Spring Lake Community Library, 101 Laketree Boulevard, Spring Lak
 e, NC 28390, United States
ROOM: Conference Room (SPL)
DESCRIPTION:Whether you need help setting up an email account, learning ho
 w to use Microsoft Office (Word, Excel, PowerPoint) or anything in between
 , we’re here to help you with your computer, tablet or smartphone questi
 ons. No appointment necessary. For more information about this program, p
 lease call (910) 483-7727 ext. 1459.
URL:https://cumberland.librarycalendar.com/event/tech-time-library-40054
END:VEVENT
END:VCALENDAR
