BEGIN:VCALENDAR
VERSION:2.0
PRODID:-//Library Market//iCal Export//EN
BEGIN:VEVENT
SUMMARY:Tech Time @ the Library
UID:40017
DTSTAMP:20260421T021200Z
DTSTART:20260603T140000Z
DTEND:20260603T153000Z
LOCATION:East Regional Library, 4809 Clinton Road, Fayetteville, NC 28312,
  United States
ROOM: Conference Room (ERL)
DESCRIPTION:Whether you need help setting up an email account, learning ho
 w to use Microsoft Office (Word, Excel, PowerPoint) or anything in between
 , we’re here to help you with your computer, tablet or smartphone questi
 ons. No appointment necessary. For more information about this program, p
 lease call 910-483-7727, ext. 1414.
URL:https://cumberland.librarycalendar.com/event/tech-time-library-40017
END:VEVENT
END:VCALENDAR
